{"text_format":"1","workbook":"xlsx","n_sheets":9,"sheets":["Infos","Präferenzmatrix","Nutzwert-Analyse","Kostenvergleich","Kosten-Nutzen","Gewinnvergleich","Rentabilität & Amortisation","Kapitalwert","Annuität"],"not_rendered":{"charts":0,"images":1,"macros":0,"external_links":0,"defined_names":3,"comments":0,"pivot_tables":0},"unopened":[],"bounds":{"document_bytes":16777216,"sheet_cells":100000,"rows_first":2000,"rows_last":500,"rows_between":2000,"halvings":0,"cell_chars":16384,"cell_head_chars":4096},"cells_cut":0,"cells_raw":0,"read":"whole","date_system":"1900"}

{"sheet":"Infos","index":0,"n_rows":60,"n_cols":5,"rows_kept":60,"cut":false,"hidden":false,"merged":[]}
[]
[]
[null,"Allgemeine Überlegungen"]
[null,null,"Die Bewertung von Lösungsvarianten ist fester Bestandteil jedes Projekts. "]
[null,null,"Die vorliegende Datei unterstützt diese Aktivität und erlaubt es, unterschiedlichen Anforderungen bez. Entscheidungsgrundlagen gerecht zu werden."]
[null,null,"Schrittweise kann mit den verschiedenen Techniken eine differenzierte Gesamtaussage erzielt werden."]
[null,null,"Die einzelnen Tabellenblätter sind mit einem Blattschutz versehen, um unabsichtliche Änderungen zu verhindern."]
[null,null,"Wird der Blattschutz aufgehoben, können die Inhalte auf die eigenen Bedürfnisse angepasst werden."]
[null,null,"Grundkenntnisse der einzelnen Techniken und deren Interpretation sind trotz allem Voraussetzung."]
[]
[null,"Vorgehen"]
[null,null,"Grundsätzlich sind die einzelnen Tabellenblätter von links nach rechts durchzuarbeiten und mit den notwendigen Eingaben zu versehen."]
[null,null,null,null,"Felder mit dieser Farbe dienen der Eingabe notwendiger Berechnungswerte."]
[null,null,"Die Textfarbe gibt Hinweise auf die Herkunft von Daten aus anderen Tabellenblättern (= Registerfarbe)."]
[]
[null,null,1,"Präferenzmatrix"]
[null,null,null,"-","Zielgewichtung per Mausklick (auch für Ungeübte machbar)"]
[null,null,null,"-","automatische Ermittlung der Anzahl Nennungen"]
[null,null,null,"-","Umrechnung auf die gewohnten 100 Gewichtungspunkte"]
[]
[null,null,2,"Nutzwertanalyse"]
[null,null,null,"-","Übertrag der Zielgewichtung aus der Präferenzmatrix"]
[null,null,null,"-","Eingabe der Bewertungspunkte je Variante"]
[null,null,null,"-","Berechnung der Nutzwertpunkte"]
[null,null,null,"-","Ermittlung der Rangfolge"]
[]
[null,null,3,"Kostenvergleich"]
[null,null,null,"-","Erfassung der Kostenfaktoren"]
[null,null,null,"-","Berechnung der Gesamtkosten je Variante"]
[null,null,null,"-","Ermittlung der Rangfolge"]
[null,null,null,"-","zusätzliche Auswertungen"]
[]
[null,null,4,"Kosten-Nutzen-Analyse"]
[null,null,null,"-","Zusammenfassung der Ergebnisse aus Nutzwertanalyse und Kostenvergleich"]
[null,null,null,"-","Berechnung des Kosten-Nutzen-Verhältnisses"]
[null,null,null,"-","Ermittlung der Rangfolge über die bisherigen Schritte"]
[]
[null,null,"Die Schritte 1 - 4 bilden zusammen die Standardmethode für die Bewertung und sollten daher in keinem Projekt fehlen. "]
[null,null,"In vielen Fällen werden vom Entscheidungsträger auch Aussagen auf Basis von Investitionsrechnungsverfahren erwartet."]
[]
[null,null,5,"Gewinnvergleich"]
[null,null,null,"-","Ergänzung der bisherigen Daten mit Ertragszahlen"]
[null,null,null,"-","Berechnung des zu erwartenden Gewinns"]
[null,null,null,"-","zusätzliche Auswertungen"]
[]
[null,null,6,"Rentabilität und Amortisation"]
[null,null,null,"-","Aussagen bezüglich Rentabilität und Amortisation auf Basis der bisherigen Eingaben"]
[]
[null,null,7,"Kapitalwert (Verfahren der dynamischen Investitionsrechnung)"]
[null,null,null,"-","Ergänzung mit Faktor für Abzinsung"]
[null,null,null,"-","Möglichkeit für die Berücksichtigung einer allmählichen Auslastungssteigerung"]
[]
[null,null,8,"Annuitätenmethode (Verfahren der dynamischen Investitionsrechnung)"]
[null,null,null,"-","Weiterführung der Kapitalwertmethode"]
[]
[null,null,"Viel Erfolg bei Ihren zukünftigen Projekten."]
[]
[]
[null,null,"© by business-training.ch, Walter Egli"]
[null,null,"Zürich - 2013"]

{"sheet":"Präferenzmatrix","index":1,"n_rows":37,"n_cols":65,"rows_kept":37,"cut":false,"hidden":false,"merged":[[2,28,2,41]]}
[]
[null,null,null,null,null,null,1,2,3,4,5,6,7,8,9,10,11,12,13,14,15,16,17,18,19]
[null,"Gewicht","Nennungen","Rang","Nr.","Ziele",{"$f":"F4","v":"Ziel 1"},{"$f":"F5","v":"Ziel 2"},{"$f":"F6","v":"Ziel 3"},{"$f":"F7","v":"Ziel 4"},{"$f":"F8","v":"Ziel 5"},{"$f":"F9","v":"Ziel 6"},{"$f":"F10","v":"Ziel 7"},{"$f":"F11","v":"Ziel 8"},{"$f":"F12","v":"Ziel 9"},{"$f":"F13","v":"Ziel 10"},{"$f":"F14","v":"Ziel 11"},{"$f":"F15","v":"Ziel 10"},{"$f":"F16","v":"Ziel 13"},{"$f":"F17","v":0},{"$f":"F18","v":0},{"$f":"F19","v":0},{"$f":"F20","v":0},{"$f":"F21","v":0},{"$f":"F22","v":0},null,null,null,"Definition der Auswahllisten für die Schnittfeldern. So können lediglich die beiden betroffenen Werte ausgewählt werden und Fehleingaben werden verhindert. Um Missverständnisse zu vermeiden, ist dieser Bereich auszublenden."]
[null,{"$f":"C4*$B$24/$C$24","v":14.102564102564102},{"$f":"FREQUENCY(G4:Z23,E4:E23)","v":11},{"$f":"RANK(C4,C4:C18,0)","v":1},1,"Ziel 1"]
[null,{"$f":"C5*$B$24/$C$24","v":11.538461538461538},9,{"$f":"RANK(C5,C4:C18,0)","v":3},2,"Ziel 2",2,null,null,null,null,null,null,null,null,null,null,null,null,null,null,null,null,null,null,null,null,1,2,2,3,3,4,4,5,5,6,6,7,7,8,8,9,9,10,10,11,11,12,12,13,13,14,14,15,15,16,16,17,17,18,18,19,19,20]
[null,12.820512820512821,10,{"$f":"RANK(C6,C4:C18,0)","v":2},3,"Ziel 3",1,3,null,null,null,null,null,null,null,null,null,null,null,null,null,null,null,null,null,null,null,1,3,2,4,3,5,4,6,5,7,6,8,7,9,8,10,9,11,10,12,11,13,12,14,13,15,14,16,15,17,16,18,17,19,18,20]
[null,11.538461538461538,9,{"$f":"RANK(C7,C4:C18,0)","v":3},4,"Ziel 4",1,2,4,null,null,null,null,null,null,null,null,null,null,null,null,null,null,null,null,null,null,1,4,2,5,3,6,4,7,5,8,6,9,7,10,8,11,9,12,10,13,11,14,12,15,13,16,14,17,15,18,16,19,17,20]
[null,10.256410256410257,8,{"$f":"RANK(C8,C4:C18,0)","v":5},5,"Ziel 5",1,2,3,5,null,null,null,null,null,null,null,null,null,null,null,null,null,null,null,null,null,1,5,2,6,3,7,4,8,5,9,6,10,7,11,8,12,9,13,10,14,11,15,12,16,13,17,14,18,15,19,16,20]
[null,10.256410256410257,8,{"$f":"RANK(C9,C4:C18,0)","v":5},6,"Ziel 6",1,2,3,4,6,null,null,null,null,null,null,null,null,null,null,null,null,null,null,null,null,1,6,2,7,3,8,4,9,5,10,6,11,7,12,8,13,9,14,10,15,11,16,12,17,13,18,14,19,15,20]
[null,5.1282051282051286,4,{"$f":"RANK(C10,C4:C18,0)","v":8},7,"Ziel 7",1,2,3,4,5,6,null,null,null,null,null,null,null,null,null,null,null,null,null,null,null,1,7,2,8,3,9,4,10,5,11,6,12,7,13,8,14,9,15,10,16,11,17,12,18,13,19,14,20]
[null,7.6923076923076925,6,{"$f":"RANK(C11,C4:C18,0)","v":7},8,"Ziel 8",1,2,3,4,5,6,8,null,null,null,null,null,null,null,null,null,null,null,null,null,null,1,8,2,9,3,10,4,11,5,12,6,13,7,14,8,15,9,16,10,17,11,18,12,19,13,20]
[null,3.8461538461538463,3,{"$f":"RANK(C12,C4:C18,0)","v":11},9,"Ziel 9",1,2,3,4,5,6,7,8,null,null,null,null,null,null,null,null,null,null,null,null,null,1,9,2,10,3,11,4,12,5,13,6,14,7,15,8,16,9,17,10,18,11,19,12,20]
[null,5.1282051282051286,4,{"$f":"RANK(C13,C4:C18,0)","v":8},10,"Ziel 10",1,2,3,4,5,6,10,8,9,null,null,null,null,null,null,null,null,null,null,null,null,1,10,2,11,3,12,4,13,5,14,6,15,7,16,8,17,9,18,10,19,11,20]
[null,5.1282051282051286,4,{"$f":"RANK(C14,C4:C18,0)","v":8},11,"Ziel 11",1,11,3,4,5,6,7,8,11,10,null,null,null,null,null,null,null,null,null,null,null,1,11,2,12,3,13,4,14,5,15,6,16,7,17,8,18,9,19,10,20]
[null,1.2820512820512822,1,{"$f":"RANK(C15,C4:C18,0)","v":12},12,"Ziel 10",1,2,3,4,5,6,7,8,9,10,11,null,null,null,null,null,null,null,null,null,null,1,12,2,13,3,14,4,15,5,16,6,17,7,18,8,19,9,20]
[null,1.2820512820512822,1,{"$f":"RANK(C16,C4:C18,0)","v":12},13,"Ziel 13",1,13,3,4,5,6,7,8,9,10,11,12,null,null,null,null,null,null,null,null,null,1,13,2,14,3,15,4,16,5,17,6,18,7,19,8,20]
[null,0,0,{"$f":"RANK(C17,C4:C18,0)","v":14},14,null,null,null,null,null,null,null,null,null,null,null,null,null,null,null,null,null,null,null,null,null,null,1,14,2,15,3,16,4,17,5,18,6,19,7,20]
[null,0,0,{"$f":"RANK(C18,C4:C18,0)","v":14},15,null,null,null,null,null,null,null,null,null,null,null,null,null,null,null,null,null,null,null,null,null,null,1,15,2,16,3,17,4,18,5,19,6,20]
[null,0,0,13,16,null,null,null,null,null,null,null,null,null,null,null,null,null,null,null,null,null,null,null,null,null,null,1,16,2,17,3,18,4,19,5,20]
[null,0,0,12,17,null,null,null,null,null,null,null,null,null,null,null,null,null,null,null,null,null,null,null,null,null,null,1,17,2,18,3,19,4,20]
[null,0,0,11,18,null,null,null,null,null,null,null,null,null,null,null,null,null,null,null,null,null,null,null,null,null,null,1,18,2,19,3,20]
[null,0,0,10,19,null,null,null,null,null,null,null,null,null,null,null,null,null,null,null,null,null,null,null,null,null,null,1,19,2,20]
[null,0,0,9,20,null,null,null,null,null,null,null,null,null,null,null,null,null,null,null,null,null,null,null,null,null,null,1,20]
[null,100,{"$f":"SUM(C4:C23)","v":78}]
[]
[null,{"$f":"IF(C24>(COUNTA(F4:F23))*((COUNTA(F4:F23)-1)/2),\"Entfernen Sie die Werte aus den gelb markierten Zellen!\",IF(C24<(COUNTA(F4:F23))*((COUNTA(F4:F23)-1)/2),\"Vervollständigen Sie alle grün markierten Schnittfelder!\",\"\"))","v":""}]
[]
[null,"Hinweise"]
[]
[null,null,"= Eingabefelder"]
[]
[null,"Nutzen Sie beim Bestimmen der Gewichtung die Auswahllisten in den Schnittfeldern."]
[null,"Es werden nur diejenigen Ziele angezeigt, welche in der Spalte F definiert wurden."]
[null,"Bei weniger als 20 Zielen sind die restlichen Zellen in Spalte F zu löschen."]
[null,"Die betroffenen Schnittfelder werden dadurch gelb markiert."]
[]
[null,null,"WICHTIG: Der Inhalt gelb markierter Zellen muss daher leer sein!"]

{"sheet":"Nutzwert-Analyse","index":2,"n_rows":32,"n_cols":19,"rows_kept":32,"cut":false,"hidden":false,"merged":[]}
[]
[null,null,"= Eingabefelder"]
[null,null,null,null,"Variante 1",null,null,"Variante 2",null,null,"Variante 3",null,null,"Variante 4"]
[null,null,"Ziele / Kriterien","Gewicht","Notiz","Punkte","Produkt","Notiz","Punkte","Produkt","Notiz","Punkte","Produkt","Notiz","Punkte","Produkt"]
[null,{"$f":"Präferenzmatrix!E4","v":1},{"$f":"Präferenzmatrix!F4","v":"Ziel 1"},{"$f":"Präferenzmatrix!B4","v":14.102564102564102},null,0,{"$f":"$D5*F5","v":0},null,0,{"$f":"$D5*I5","v":0},null,0,{"$f":"$D5*L5","v":0},null,0,{"$f":"$D5*O5","v":0}]
[null,{"$f":"Präferenzmatrix!E5","v":2},{"$f":"Präferenzmatrix!F5","v":"Ziel 2"},{"$f":"Präferenzmatrix!B5","v":11.538461538461538},null,0,{"$f":"$D6*F6","v":0},null,0,{"$f":"$D6*I6","v":0},null,0,{"$f":"$D6*L6","v":0},null,0,{"$f":"$D6*O6","v":0}]
[null,{"$f":"Präferenzmatrix!E6","v":3},{"$f":"Präferenzmatrix!F6","v":"Ziel 3"},{"$f":"Präferenzmatrix!B6","v":12.820512820512821},null,0,0,null,0,0,null,0,0,null,0,0]
[null,{"$f":"Präferenzmatrix!E7","v":4},{"$f":"Präferenzmatrix!F7","v":"Ziel 4"},{"$f":"Präferenzmatrix!B7","v":11.538461538461538},null,0,0,null,0,0,null,0,0,null,0,0,null,null,"Aufbereitung / Konsolidierung für Rangfolge"]
[null,{"$f":"Präferenzmatrix!E8","v":5},{"$f":"Präferenzmatrix!F8","v":"Ziel 5"},{"$f":"Präferenzmatrix!B8","v":10.256410256410257},null,0,0,null,0,0,null,0,0,null,0,0,null,null,"unten stehende Zellen nicht löschen"]
[null,{"$f":"Präferenzmatrix!E9","v":6},{"$f":"Präferenzmatrix!F9","v":"Ziel 6"},{"$f":"Präferenzmatrix!B9","v":10.256410256410257},null,0,0,null,0,0,null,0,0,null,0,0,null,null,{"$f":"IF(G25=0,\"\",G25)","v":""}]
[null,{"$f":"Präferenzmatrix!E10","v":7},{"$f":"Präferenzmatrix!F10","v":"Ziel 7"},{"$f":"Präferenzmatrix!B10","v":5.1282051282051286},null,0,0,null,0,0,null,0,0,null,0,0,null,null,{"$f":"IF(J25=0,\"\",J25)","v":""}]
[null,{"$f":"Präferenzmatrix!E11","v":8},{"$f":"Präferenzmatrix!F11","v":"Ziel 8"},{"$f":"Präferenzmatrix!B11","v":7.6923076923076925},null,0,0,null,0,0,null,0,0,null,0,0,null,null,{"$f":"IF(M25=0,\"\",M25)","v":""}]
[null,{"$f":"Präferenzmatrix!E12","v":9},{"$f":"Präferenzmatrix!F12","v":"Ziel 9"},{"$f":"Präferenzmatrix!B12","v":3.8461538461538463},null,0,0,null,0,0,null,0,0,null,0,0,null,null,{"$f":"IF(P25=0,\"\",P25)","v":""}]
[null,{"$f":"Präferenzmatrix!E13","v":10},{"$f":"Präferenzmatrix!F13","v":"Ziel 10"},{"$f":"Präferenzmatrix!B13","v":5.1282051282051286},null,0,0,null,0,0,null,0,0,null,0,0]
[null,{"$f":"Präferenzmatrix!E14","v":11},{"$f":"Präferenzmatrix!F14","v":"Ziel 11"},{"$f":"Präferenzmatrix!B14","v":5.1282051282051286},null,0,0,null,0,0,null,0,0,null,0,0]
[null,{"$f":"Präferenzmatrix!E15","v":12},{"$f":"Präferenzmatrix!F15","v":"Ziel 10"},{"$f":"Präferenzmatrix!B15","v":1.2820512820512822},null,0,0,null,0,0,null,0,0,null,0,0]
[null,{"$f":"Präferenzmatrix!E16","v":13},{"$f":"Präferenzmatrix!F16","v":"Ziel 13"},{"$f":"Präferenzmatrix!B16","v":1.2820512820512822},null,0,0,null,0,0,null,0,0,null,0,0]
[null,{"$f":"Präferenzmatrix!E17","v":14},{"$f":"Präferenzmatrix!F17","v":0},{"$f":"Präferenzmatrix!B17","v":0},null,0,0,null,0,0,null,0,0,null,0,0]
[null,{"$f":"Präferenzmatrix!E18","v":15},{"$f":"Präferenzmatrix!F18","v":0},{"$f":"Präferenzmatrix!B18","v":0},null,0,0,null,0,0,null,0,0,null,0,0]
[null,{"$f":"Präferenzmatrix!E19","v":16},{"$f":"Präferenzmatrix!F19","v":0},{"$f":"Präferenzmatrix!B19","v":0},null,0,0,null,0,0,null,0,0,null,0,0]
[null,{"$f":"Präferenzmatrix!E20","v":17},{"$f":"Präferenzmatrix!F20","v":0},{"$f":"Präferenzmatrix!B20","v":0},null,0,0,null,0,0,null,0,0,null,0,0]
[null,{"$f":"Präferenzmatrix!E21","v":18},{"$f":"Präferenzmatrix!F21","v":0},{"$f":"Präferenzmatrix!B21","v":0},null,0,0,null,0,0,null,0,0,null,0,0]
[null,{"$f":"Präferenzmatrix!E22","v":19},{"$f":"Präferenzmatrix!F22","v":0},{"$f":"Präferenzmatrix!B22","v":0},null,0,0,null,0,0,null,0,0,null,0,0]
[null,{"$f":"Präferenzmatrix!E23","v":20},{"$f":"Präferenzmatrix!F23","v":0},{"$f":"Präferenzmatrix!B23","v":0},null,10,0,null,0,{"$f":"$D24*I24","v":0},null,0,{"$f":"$D24*L24","v":0},null,0,{"$f":"$D24*O24","v":0}]
[null,null,null,null,"Summe:",null,{"$f":"SUM(G5:G24)","v":0},null,null,{"$f":"SUM(J5:J24)","v":0},null,null,{"$f":"SUM(M5:M24)","v":0},null,null,{"$f":"SUM(P5:P24)","v":0}]
[]
[null,null,null,null,"Rang:",null,{"$f":"IF(ISERROR(RANK(G25,$S$10:$S$13,0)),\"\",(RANK(G25,$S$10:$S$13,0)))","v":""},null,null,{"$f":"IF(ISERROR(RANK(J25,$S$10:$S$13,0)),\"\",(RANK(J25,$S$10:$S$13,0)))","v":""},null,null,{"$f":"IF(ISERROR(RANK(M25,$S$10:$S$13,0)),\"\",(RANK(M25,$S$10:$S$13,0)))","v":""},null,null,{"$f":"IF(ISERROR(RANK(P25,$S$10:$S$13,0)),\"\",(RANK(P25,$S$10:$S$13,0)))","v":""}]
[]
[null,"Hinweis:"]
[null,"Sofern die Zielgewichtung manuell und nicht mit Hilfe der Präferenzmatrix vorgenommen wurde, "]
[null,"entfernen Sie den Blattschutz und tragen Sie die Werte in Spalte D manuell ein."]
[null,"Schalten Sie zur Sicherheit den Blattschutz anschliessend wieder ein."]

{"sheet":"Kostenvergleich","index":3,"n_rows":53,"n_cols":15,"rows_kept":53,"cut":false,"hidden":false,"merged":[]}
[]
["Basisdaten für alle Varianten",null,null,null,null,null,null,null,null,null,null,null,null,null,"Aufbereitung / Konsolidierung für Rangfolge"]
[null,null,null,null,null,null,null,null,null,null,null,null,null,null,"unten stehende Zellen nicht löschen"]
[null,"Zinssatz kalk. Zinsen",null,null,0.1,null,null,null,null,null,null,null,null,null,{"$f":"IF(ISERROR(E33),\"\",E33)","v":188900}]
[null,"erwartete Auslastung",null,null,10000,"Vergleichswert für alle Varianten",null,null,null,null,null,null,null,null,{"$f":"IF(ISERROR(G33),\"\",G33)","v":186200}]
[null,null,null,null,null,null,null,null,null,null,null,null,null,null,{"$f":"IF(ISERROR(I33),\"\",I33)","v":220100}]
[null,"Daten je Variante",null,null,null,null,null,null,null,null,null,null,null,null,{"$f":"IF(ISERROR(K33),\"\",K33)","v":""}]
[]
[null,null,null,null,{"$f":"'Nutzwert-Analyse'!E3","v":"Variante 1"},null,{"$f":"'Nutzwert-Analyse'!H3","v":"Variante 2"},null,{"$f":"'Nutzwert-Analyse'!K3","v":"Variante 3"},null,{"$f":"'Nutzwert-Analyse'!N3","v":"Variante 4"}]
[null,"Investition (Anschaffungskosten)",null,null,340000,null,260000,null,420000,null,0]
[null,"Liquidationserlös",null,null,14000,null,10000,null,32000,null,0]
[null,"Nutzungsdauer (Jahre)",null,null,5,null,4,null,8,null,0,null,"!! Steuerung für Berechnung und Anzeige (0 = keine Variante)"]
[]
[null,"Kostenzusammenstellung",null,null,"erwartete","maximale","erwartete","maximale","erwartete","maximale","erwartete","maximale","max. Kapazität als zusätzlicher Vergleichswert"]
[null,null,null,null,"Auslastung","Kapazität","Auslastung","Kapazität","Auslastung","Kapazität","Auslastung","Kapazität"]
[]
[null,"bei Output von (Leistungseinheiten):",null,null,{"$f":"$E$5","v":10000},12500,{"$f":"$E$5","v":10000},10000,{"$f":"$E$5","v":10000},18000,{"$f":"$E$5","v":10000}]
[]
[null,"Fixkosten / Jahr"]
[null,null,"Standortkosten (Miete, Heizung etc.)",null,25000,null,4200,null,28000]
[null,null,"Abschreibungen",null,{"$f":"(E10-E11)/E12","v":65200},null,{"$f":"(G10-G11)/G12","v":62500},null,{"$f":"(I10-I11)/I12","v":48500},null,{"$f":"(K10-K11)/K12","v":{"$error":"#DIV/0!"}}]
[null,null,"kalk. Zinsen",null,{"$f":"(E10+E11)/2*$E$4","v":17700},null,{"$f":"(G10+G11)/2*$E$4","v":13500},null,{"$f":"(I10+I11)/2*$E$4","v":22600},null,{"$f":"(K10+K11)/2*$E$4","v":0}]
[null,null,"Summe Fixkosten",null,{"$f":"SUM(E20:E22)","v":107900},{"$f":"IF(F17=\"\",\"\",SUM(E20:E22))","v":107900},{"$f":"SUM(G20:G22)","v":80200},{"$f":"IF(H17=\"\",\"\",SUM(G20:G22))","v":80200},{"$f":"SUM(I20:I22)","v":99100},{"$f":"IF(J17=\"\",\"\",SUM(I20:I22))","v":99100},{"$f":"SUM(K20:K22)","v":{"$error":"#DIV/0!"}},{"$f":"IF(L17=\"\",\"\",SUM(K20:K22))","v":""}]
[]
[null,"Variable Kosten"]
[null,null,"Personal / Lohn",null,30000,38000,50000,50000,56000,58000]
[null,null,"Material",null,18000,26000,25000,25000,25000,34000]
[null,null,"Unterhalt",null,12000,12000,10000,10000,18500,18500]
[null,null,"Energie",null,6000,7200,5000,5000,8500,9000]
[null,null,"Sonst. Betriebskosten",null,15000,18050,16000,16000,13000,13800]
[null,null,"Summe variable Kosten",null,{"$f":"SUM(E26:E30)","v":81000},{"$f":"IF(F17=\"\",\"\",SUM(F26:F30))","v":101250},{"$f":"SUM(G26:G30)","v":106000},{"$f":"IF(H17=\"\",\"\",SUM(H26:H30))","v":106000},{"$f":"SUM(I26:I30)","v":121000},{"$f":"IF(J17=\"\",\"\",SUM(J26:J30))","v":133300},{"$f":"SUM(K26:K30)","v":0},{"$f":"IF(L17=\"\",\"\",SUM(L26:L30))","v":""}]
[]
[null,"Total Kosten",null,null,{"$f":"E23+E31","v":188900},{"$f":"IF(F17=\"\",\"\",E23+F31)","v":209150},{"$f":"G23+G31","v":186200},{"$f":"IF(H17=\"\",\"\",G23+H31)","v":186200},{"$f":"I23+I31","v":220100},{"$f":"IF(J17=\"\",\"\",I23+J31)","v":232400},{"$f":"K23+K31","v":{"$error":"#DIV/0!"}},{"$f":"IF(L17=\"\",\"\",K23+L31)","v":""}]
[]
[null,"Rang:",null,null,{"$f":"RANK(E33,$O$4:$O$7,1)","v":2},null,{"$f":"RANK(G33,$O$4:$O$7,1)","v":1},null,{"$f":"RANK(I33,$O$4:$O$7,1)","v":3},null,{"$f":"RANK(K33,$O$4:$O$7,1)","v":{"$error":"#DIV/0!"}}]
[]
["Auswertung"]
[]
[null,null,null,null,{"$f":"E9","v":"Variante 1"},null,{"$f":"G9","v":"Variante 2"},null,{"$f":"I9","v":"Variante 3"},null,{"$f":"K9","v":"Variante 4"}]
[null,null,null,null,{"$f":"E14","v":"erwartete"},"maximale","erwartete","maximale","erwartete","maximale","erwartete","maximale"]
[null,null,null,null,"Auslastung","Kapazität","Auslastung","Kapazität","Auslastung","Kapazität","Auslastung","Kapazität"]
[null,"Gesamtkosten / Jahr",null,null,{"$f":"E33","v":188900},209150,186200,186200,220100,232400,{"$error":"#DIV/0!"},""]
[null,"Fixkosten / Leistungseinheit",null,null,{"$f":"IF(E17=\"\",\"\",E23/E17)","v":10.79},{"$f":"IF(F17=\"\",\"\",F23/F17)","v":8.6319999999999997},{"$f":"IF(G17=\"\",\"\",G23/G17)","v":8.02},{"$f":"IF(H17=\"\",\"\",H23/H17)","v":8.02},{"$f":"I23/I17","v":9.91},{"$f":"IF(J17=\"\",\"\",J23/J17)","v":5.5055555555555555},{"$f":"K23/K17","v":{"$error":"#DIV/0!"}},{"$f":"IF(L17=\"\",\"\",L23/L17)","v":""}]
[null,"Variable Kosten / Leistungseinheit",null,null,{"$f":"IF(E17=\"\",\"\",E31/E17)","v":8.1},{"$f":"IF(F17=\"\",\"\",F31/F17)","v":8.1},{"$f":"IF(G17=\"\",\"\",G31/G17)","v":10.6},{"$f":"IF(H17=\"\",\"\",H31/H17)","v":10.6},{"$f":"I31/I17","v":12.1},{"$f":"IF(J17=\"\",\"\",J31/J17)","v":7.4055555555555559},{"$f":"K31/K17","v":0},{"$f":"IF(L17=\"\",\"\",L31/L17)","v":""}]
[null,"Stückkosten",null,null,{"$f":"IF(E17=\"\",\"\",E33/E17)","v":18.89},{"$f":"IF(F17=\"\",\"\",F33/F17)","v":16.731999999999999},{"$f":"IF(G17=\"\",\"\",G33/G17)","v":18.62},{"$f":"IF(H17=\"\",\"\",H33/H17)","v":18.62},{"$f":"I33/I17","v":22.01},{"$f":"IF(J17=\"\",\"\",J33/J17)","v":12.911111111111111},{"$f":"K33/K17","v":{"$error":"#DIV/0!"}},{"$f":"IF(L17=\"\",\"\",L33/L17)","v":""}]
[]
[null,"Kritische Menge"]
[null,"Gleiche Kosten bei Output von:",null,null,{"$f":"E17","v":10000},{"$f":"F17","v":12500},{"$f":"IF((E23-G23)/(G44-E44)<=0,\"keine kM\",(E23-G23)/(G44-E44))","v":11080},{"$f":"IF((F23-H23)/(H44-F44)<=0,\"keine kM\",(F23-H23)/(H44-F44))","v":11080},{"$f":"IF((E23-I23)/(I44-E44)<=0,\"keine kM\",(E23-I23)/(I44-E44))","v":2200},{"$f":"IF((F23-J23)/(J44-F44)<=0,\"keine kM\",(F23-J23)/(J44-F44))","v":"keine kM"},{"$f":"IF((E23-K23)/(K44-E44)<=0,\"keine kM\",(E23-K23)/(K44-E44))","v":{"$error":"#DIV/0!"}},{"$f":"IF((E23-L23)/(L44-E44)<=0,\"keine kM\",(E23-L23)/(L44-E44))","v":{"$error":"#VALUE!"}}]
[null,null,null,null,null,null,{"$f":"G17","v":10000},{"$f":"H17","v":10000},{"$f":"IF((G23-I23)/(I44-G44)<=0,\"keine kM\",(G23-I23)/(I44-G44))","v":"keine kM"},{"$f":"IF((H23-J23)/(J44-H44)<=0,\"keine kM\",(H23-J23)/(J44-H44))","v":5916.5217391304359},{"$f":"IF((G23-K23)/(K44-G44)<=0,\"keine kM\",(G23-K23)/(K44-G44))","v":{"$error":"#DIV/0!"}},{"$f":"IF((H23-L23)/(L44-H44)<=0,\"keine kM\",(H23-L23)/(L44-H44))","v":{"$error":"#VALUE!"}}]
[null,null,null,null,null,null,null,null,{"$f":"I17","v":10000},{"$f":"J17","v":18000},{"$f":"IF((I23-K23)/(K44-I44)<=0,\"keine kM\",(I23-K23)/(K44-I44))","v":{"$error":"#DIV/0!"}},{"$f":"IF((J23-L23)/(L44-J44)<=0,\"keine kM\",(J23-L23)/(L44-J44))","v":{"$error":"#VALUE!"}}]
[null,"Hinweis:"]
[null,"Für die Berechnung der kritischen Menge muss von einer Variante als Basiswert ausgegangen werden."]
[null,"\"keine kM\" bedeutet, dass die entsprechende Variante keine Kostenvorteile zur Folge hat und die Basisvariante stets günstiger ist."]

{"sheet":"Kosten-Nutzen","index":4,"n_rows":27,"n_cols":17,"rows_kept":27,"cut":false,"hidden":false,"merged":[]}
[]
[]
[null,"Kosten-Nutzen-Vergleich (Zusammenfassung)",null,null,null,null,null,null,null,null,null,null,null,null,"Aufbereitung / Konsolidierung für Rangfolge"]
[null,null,null,null,null,null,null,null,null,null,null,null,null,null,"unten stehende Zellen nicht löschen"]
[null,null,null,null,{"$f":"'Nutzwert-Analyse'!E3","v":"Variante 1"},null,{"$f":"'Nutzwert-Analyse'!H3","v":"Variante 2"},null,{"$f":"'Nutzwert-Analyse'!K3","v":"Variante 3"},null,{"$f":"'Nutzwert-Analyse'!N3","v":"Variante 4"},null,null,null,"Kosten",null,"Kosten/Nutzen"]
[null,null,null,null,null,null,null,null,null,null,null,null,null,null,{"$f":"IF(ISERROR(E20),\"\",E20)","v":188900},null,{"$f":"IF(ISERROR(E25),\"\",E25)","v":""}]
[null,"Nutzwertanalyse (Zusammenfassung)",null,null,null,null,null,null,null,null,null,null,null,null,{"$f":"IF(ISERROR(G20),\"\",G20)","v":186200},null,{"$f":"IF(ISERROR(G25),\"\",G25)","v":""}]
[null,null,"Nutzwerte",null,{"$f":"'Nutzwert-Analyse'!G25","v":0},null,{"$f":"'Nutzwert-Analyse'!J25","v":0},null,{"$f":"'Nutzwert-Analyse'!M25","v":0},null,{"$f":"'Nutzwert-Analyse'!P25","v":0},null,null,null,{"$f":"IF(ISERROR(I20),\"\",I20)","v":220100},null,{"$f":"IF(ISERROR(I25),\"\",I25)","v":""}]
[null,null,"Bereinigung monetäre Ziele",null,0,null,0,null,0,null,0,null,"Werden vom Total der Nutzwertpunkte subtrahiert.",null,{"$f":"IF(ISERROR(K20),\"\",K20)","v":""},null,{"$f":"IF(ISERROR(K25),\"\",K25)","v":""}]
[]
[null,null,"Nutzwerte bereiningt",null,{"$f":"E8-E9","v":0},null,{"$f":"G8-G9","v":0},null,{"$f":"I8-I9","v":0},null,{"$f":"K8-K9","v":0}]
[]
[null,null,"Rangfolge Nutzen",null,{"$f":"'Nutzwert-Analyse'!G27","v":""},null,{"$f":"'Nutzwert-Analyse'!J27","v":""},null,{"$f":"'Nutzwert-Analyse'!M27","v":""},null,{"$f":"'Nutzwert-Analyse'!P27","v":""}]
[]
[]
[null,"Kostenvergleich (Zusammenfassung)"]
[null,null,"Fixkosten",null,{"$f":"Kostenvergleich!E23","v":107900},null,{"$f":"Kostenvergleich!G23","v":80200},null,{"$f":"Kostenvergleich!I23","v":99100},null,{"$f":"Kostenvergleich!K23","v":{"$error":"#DIV/0!"}}]
[null,null,"Variable Kosten",null,{"$f":"Kostenvergleich!E31","v":81000},null,{"$f":"Kostenvergleich!G31","v":106000},null,{"$f":"Kostenvergleich!I31","v":121000},null,{"$f":"Kostenvergleich!K31","v":0}]
[]
[null,null,"Total Kosten",null,{"$f":"Kostenvergleich!E33","v":188900},null,{"$f":"Kostenvergleich!G33","v":186200},null,{"$f":"Kostenvergleich!I33","v":220100},null,{"$f":"Kostenvergleich!K33","v":{"$error":"#DIV/0!"}}]
[]
[null,null,"Rangfolge Kosten",null,{"$f":"RANK(E20,$O$6:$O$9,1)","v":2},null,{"$f":"RANK(G20,$O$6:$O$9,1)","v":1},null,{"$f":"RANK(I20,$O$6:$O$9,1)","v":3},null,{"$f":"RANK(K20,$O$6:$O$9,1)","v":{"$error":"#DIV/0!"}}]
[]
[]
[null,"Kosten / Nutzen - Verhältnis",null,null,{"$f":"E20/E11","v":{"$error":"#DIV/0!"}},null,{"$f":"G20/G11","v":{"$error":"#DIV/0!"}},null,{"$f":"I20/I11","v":{"$error":"#DIV/0!"}},null,{"$f":"K20/K11","v":{"$error":"#DIV/0!"}}]
[]
[null,null,"Rangfolge Kosten/Nutzen",null,{"$f":"RANK(E25,$Q$6:$Q$9,1)","v":{"$error":"#DIV/0!"}},null,{"$f":"RANK(G25,$Q$6:$Q$9,1)","v":{"$error":"#DIV/0!"}},null,{"$f":"RANK(I25,$Q$6:$Q$9,1)","v":{"$error":"#DIV/0!"}},null,{"$f":"RANK(K25,$Q$6:$Q$9,1)","v":{"$error":"#DIV/0!"}}]

{"sheet":"Gewinnvergleich","index":5,"n_rows":43,"n_cols":12,"rows_kept":43,"cut":false,"hidden":false,"merged":[]}
[]
[{"$f":"Kostenvergleich!A2","v":"Basisdaten für alle Varianten"}]
[]
[null,{"$f":"Kostenvergleich!B4","v":"Zinssatz kalk. Zinsen"},null,null,{"$f":"Kostenvergleich!E4","v":0.1}]
[null,{"$f":"Kostenvergleich!B5","v":"erwartete Auslastung"},null,null,{"$f":"Kostenvergleich!E5","v":10000}]
[]
[null,{"$f":"Kostenvergleich!B7","v":"Daten je Variante"},null,null,"(Zusammenfassung aus Kostenvergleich)"]
[]
[null,null,null,null,{"$f":"'Nutzwert-Analyse'!E3","v":"Variante 1"},null,{"$f":"'Nutzwert-Analyse'!H3","v":"Variante 2"},null,{"$f":"'Nutzwert-Analyse'!K3","v":"Variante 3"},null,{"$f":"'Nutzwert-Analyse'!N3","v":"Variante 4"}]
[null,{"$f":"Kostenvergleich!B10","v":"Investition (Anschaffungskosten)"},null,null,{"$f":"Kostenvergleich!E10","v":340000},null,{"$f":"Kostenvergleich!G10","v":260000},null,{"$f":"Kostenvergleich!I10","v":420000},null,{"$f":"Kostenvergleich!K10","v":0}]
[null,{"$f":"Kostenvergleich!B11","v":"Liquidationserlös"},null,null,{"$f":"Kostenvergleich!E11","v":14000},null,{"$f":"Kostenvergleich!G11","v":10000},null,{"$f":"Kostenvergleich!I11","v":32000},null,{"$f":"Kostenvergleich!K11","v":0}]
[null,{"$f":"Kostenvergleich!B12","v":"Nutzungsdauer (Jahre)"},null,null,{"$f":"Kostenvergleich!E12","v":5},null,{"$f":"Kostenvergleich!G12","v":4},null,{"$f":"Kostenvergleich!I12","v":8},null,{"$f":"Kostenvergleich!K12","v":0}]
[]
[null,null,null,null,{"$f":"Kostenvergleich!E14","v":"erwartete"},{"$f":"Kostenvergleich!F14","v":"maximale"},{"$f":"Kostenvergleich!G14","v":"erwartete"},{"$f":"Kostenvergleich!H14","v":"maximale"},{"$f":"Kostenvergleich!I14","v":"erwartete"},{"$f":"Kostenvergleich!J14","v":"maximale"},{"$f":"Kostenvergleich!K14","v":"erwartete"},{"$f":"Kostenvergleich!L14","v":"maximale"}]
[null,null,null,null,{"$f":"Kostenvergleich!E15","v":"Auslastung"},{"$f":"Kostenvergleich!F15","v":"Kapazität"},{"$f":"Kostenvergleich!G15","v":"Auslastung"},{"$f":"Kostenvergleich!H15","v":"Kapazität"},{"$f":"Kostenvergleich!I15","v":"Auslastung"},{"$f":"Kostenvergleich!J15","v":"Kapazität"},{"$f":"Kostenvergleich!K15","v":"Auslastung"},{"$f":"Kostenvergleich!L15","v":"Kapazität"}]
[]
[null,{"$f":"Kostenvergleich!B17","v":"bei Output von (Leistungseinheiten):"},null,null,{"$f":"Kostenvergleich!E17","v":10000},{"$f":"Kostenvergleich!F17","v":12500},{"$f":"Kostenvergleich!G17","v":10000},{"$f":"Kostenvergleich!H17","v":10000},{"$f":"Kostenvergleich!I17","v":10000},{"$f":"Kostenvergleich!J17","v":18000},{"$f":"Kostenvergleich!K17","v":10000},{"$f":"Kostenvergleich!L17","v":0}]
[]
[null,{"$f":"Kostenvergleich!B19","v":"Fixkosten / Jahr"},null,null,{"$f":"Kostenvergleich!E23","v":107900},{"$f":"Kostenvergleich!F23","v":107900},{"$f":"Kostenvergleich!G23","v":80200},{"$f":"Kostenvergleich!H23","v":80200},{"$f":"Kostenvergleich!I23","v":99100},{"$f":"Kostenvergleich!J23","v":99100},{"$f":"Kostenvergleich!K23","v":{"$error":"#DIV/0!"}},{"$f":"Kostenvergleich!L23","v":""}]
[null,{"$f":"Kostenvergleich!B25","v":"Variable Kosten"},null,null,{"$f":"Kostenvergleich!E31","v":81000},{"$f":"Kostenvergleich!F31","v":101250},{"$f":"Kostenvergleich!G31","v":106000},{"$f":"Kostenvergleich!H31","v":106000},{"$f":"Kostenvergleich!I31","v":121000},{"$f":"Kostenvergleich!J31","v":133300},{"$f":"Kostenvergleich!K31","v":0},{"$f":"Kostenvergleich!L31","v":""}]
[null,{"$f":"Kostenvergleich!B33","v":"Total Kosten"},null,null,{"$f":"Kostenvergleich!E33","v":188900},{"$f":"Kostenvergleich!F33","v":209150},{"$f":"Kostenvergleich!G33","v":186200},{"$f":"Kostenvergleich!H33","v":186200},{"$f":"Kostenvergleich!I33","v":220100},{"$f":"Kostenvergleich!J33","v":232400},{"$f":"Kostenvergleich!K33","v":{"$error":"#DIV/0!"}},{"$f":"Kostenvergleich!L33","v":""}]
[]
[null,"Erlös je Leistungseinheit",null,null,19.2,null,19.05,null,20.2,null,0]
[]
["Auswertung I",null,null,null,"Gewinnvergleich"]
[]
[null,null,null,null,{"$f":"E9","v":"Variante 1"},null,{"$f":"G9","v":"Variante 2"},null,{"$f":"I9","v":"Variante 3"},null,{"$f":"K9","v":"Variante 4"}]
[null,null,null,null,{"$f":"E14","v":"erwartete"},"maximale","erwartete","maximale","erwartete","maximale","erwartete","maximale"]
[null,null,null,null,"Auslastung","Kapazität","Auslastung","Kapazität","Auslastung","Kapazität","Auslastung","Kapazität"]
[null,"Erlös je Periode",null,null,{"$f":"IF(E12=0,\"\",$E$23*E17)","v":192000},{"$f":"IF(E12=0,\"\",$E$23*F17)","v":240000},{"$f":"IF(G12=0,\"\",$G$23*G17)","v":190500},{"$f":"IF(G12=0,\"\",$G$23*H17)","v":190500},{"$f":"IF(I12=0,\"\",$I$23*I17)","v":202000},{"$f":"IF(I12=0,\"\",$I$23*J17)","v":363600},{"$f":"IF(K12=0,\"\",$K$23*K17)","v":""},{"$f":"IF(K12=0,\"\",$K$23*L17)","v":""}]
[null,"Gewinn je Periode",null,null,{"$f":"E30-E21","v":3100},30850,4300,4300,-18100,131200,{"$error":"#VALUE!"},{"$error":"#VALUE!"}]
[null,"Gewinn je Leistungseinheit",null,null,{"$f":"E30/E17-E21/E17","v":0.30999999999999872},{"$f":"F30/F17-F21/F17","v":2.468},{"$f":"G30/G17-G21/G17","v":0.42999999999999972},0.42999999999999972,-1.8100000000000023,7.2888888888888879,{"$error":"#VALUE!"},{"$error":"#VALUE!"}]
[null,"Investitionsgewinn (gesamte Nutzungsdauer)",null,null,{"$f":"E31*$E$12","v":15500},{"$f":"F31*$E$12","v":154250},21500,21500,-90500,656000,{"$error":"#VALUE!"},{"$error":"#VALUE!"}]
[]
["Auswertung II",null,null,null,"Deckungsbeiträge und Break-Even-Point"]
[]
[null,"Deckungsbeitrag / Periode",null,null,{"$f":"E30-E20","v":111000},138750,84500,84500,81000,230300,{"$error":"#VALUE!"},{"$error":"#VALUE!"}]
[null,"Deckungsbeitrag / Leistungseinheit",null,null,{"$f":"IF(E12=0,\"\",$E$23-E20/E17)","v":11.1},{"$f":"IF(E12=0,\"\",$E$23-F20/F17)","v":11.1},{"$f":"IF(G12=0,\"\",$G$23-G20/G17)","v":8.4500000000000011},{"$f":"IF(G12=0,\"\",$G$23-H20/H17)","v":8.4500000000000011},{"$f":"IF(I12=0,\"\",$I$23-I20/I17)","v":8.1},{"$f":"IF(I12=0,\"\",$I$23-J20/J17)","v":12.794444444444444},{"$f":"IF(K12=0,\"\",$K$23-K20/K17)","v":""},{"$f":"IF(K12=0,\"\",$K$23-L20/L17)","v":""}]
[null,"Break-Even (Gewinnschwelle)"]
[null,null,"absolut (Leistungseinheiten)",null,{"$f":"E19/E38","v":9720.7207207207211},{"$f":"F19/F38","v":9720.7207207207211},{"$f":"G19/G38","v":9491.124260355029},9491.124260355029,12234.567901234568,7745.5492835432042,{"$error":"#DIV/0!"},{"$error":"#VALUE!"}]
[null,null,"in % des Outputs",null,{"$f":"E40/E17*100","v":97.207207207207219},77.765765765765764,94.911242603550292,94.911242603550292,122.34567901234567,43.030829353017801,{"$error":"#DIV/0!"},{"$error":"#VALUE!"}]
[null,"Sicherheitskoeffizient (%)",null,null,{"$f":"E31/E37*100","v":2.7927927927927927},22.234234234234236,5.0887573964497044,5.0887573964497044,-22.345679012345681,56.969170646982192,{"$error":"#VALUE!"},{"$error":"#VALUE!"}]
[null,"Deckungsbeitragsquote (%)",null,null,{"$f":"E38/E23*100","v":57.8125},{"$f":"F38/E23*100","v":57.8125},{"$f":"G38/G23*100","v":44.356955380577432},{"$f":"H38/G23*100","v":44.356955380577432},{"$f":"I38/I23*100","v":40.099009900990104},{"$f":"J38/I23*100","v":63.338833883388347},{"$f":"K38/K23*100","v":{"$error":"#VALUE!"}},{"$f":"L38/K23*100","v":{"$error":"#VALUE!"}}]

{"sheet":"Rentabilität & Amortisation","index":6,"n_rows":41,"n_cols":12,"rows_kept":41,"cut":false,"hidden":false,"merged":[]}
[]
[{"$f":"Kostenvergleich!A2","v":"Basisdaten für alle Varianten"}]
[]
[null,{"$f":"Kostenvergleich!B4","v":"Zinssatz kalk. Zinsen"},null,null,{"$f":"Kostenvergleich!E4","v":0.1}]
[null,{"$f":"Kostenvergleich!B5","v":"erwartete Auslastung"},null,null,{"$f":"Kostenvergleich!E5","v":10000}]
[]
[null,{"$f":"Kostenvergleich!B7","v":"Daten je Variante"},null,null,"(Zusammenfassung aus Kosten- und Gewinnvergleich)"]
[]
[null,null,null,null,{"$f":"'Nutzwert-Analyse'!E3","v":"Variante 1"},null,{"$f":"'Nutzwert-Analyse'!H3","v":"Variante 2"},null,{"$f":"'Nutzwert-Analyse'!K3","v":"Variante 3"},null,{"$f":"'Nutzwert-Analyse'!N3","v":"Variante 4"}]
[null,{"$f":"Kostenvergleich!B10","v":"Investition (Anschaffungskosten)"},null,null,{"$f":"Kostenvergleich!E10","v":340000},null,{"$f":"Kostenvergleich!G10","v":260000},null,{"$f":"Kostenvergleich!I10","v":420000},null,{"$f":"Kostenvergleich!K10","v":0}]
[null,{"$f":"Kostenvergleich!B11","v":"Liquidationserlös"},null,null,{"$f":"Kostenvergleich!E11","v":14000},null,{"$f":"Kostenvergleich!G11","v":10000},null,{"$f":"Kostenvergleich!I11","v":32000},null,{"$f":"Kostenvergleich!K11","v":0}]
[null,{"$f":"Kostenvergleich!B12","v":"Nutzungsdauer (Jahre)"},null,null,{"$f":"Kostenvergleich!E12","v":5},null,{"$f":"Kostenvergleich!G12","v":4},null,{"$f":"Kostenvergleich!I12","v":8},null,{"$f":"Kostenvergleich!K12","v":0}]
[]
[null,null,null,null,{"$f":"Kostenvergleich!E14","v":"erwartete"},{"$f":"Kostenvergleich!F14","v":"maximale"},{"$f":"Kostenvergleich!G14","v":"erwartete"},{"$f":"Kostenvergleich!H14","v":"maximale"},{"$f":"Kostenvergleich!I14","v":"erwartete"},{"$f":"Kostenvergleich!J14","v":"maximale"},{"$f":"Kostenvergleich!K14","v":"erwartete"},{"$f":"Kostenvergleich!L14","v":"maximale"}]
[null,null,null,null,{"$f":"Kostenvergleich!E15","v":"Auslastung"},{"$f":"Kostenvergleich!F15","v":"Kapazität"},{"$f":"Kostenvergleich!G15","v":"Auslastung"},{"$f":"Kostenvergleich!H15","v":"Kapazität"},{"$f":"Kostenvergleich!I15","v":"Auslastung"},{"$f":"Kostenvergleich!J15","v":"Kapazität"},{"$f":"Kostenvergleich!K15","v":"Auslastung"},{"$f":"Kostenvergleich!L15","v":"Kapazität"}]
[]
[null,{"$f":"Kostenvergleich!B17","v":"bei Output von (Leistungseinheiten):"},null,null,{"$f":"Kostenvergleich!E17","v":10000},{"$f":"Kostenvergleich!F17","v":12500},{"$f":"Kostenvergleich!G17","v":10000},{"$f":"Kostenvergleich!H17","v":10000},{"$f":"Kostenvergleich!I17","v":10000},{"$f":"Kostenvergleich!J17","v":18000},{"$f":"Kostenvergleich!K17","v":10000},{"$f":"Kostenvergleich!L17","v":0}]
[]
[null,{"$f":"Kostenvergleich!B19","v":"Fixkosten / Jahr"},null,null,{"$f":"Kostenvergleich!E23","v":107900},{"$f":"Kostenvergleich!F23","v":107900},{"$f":"Kostenvergleich!G23","v":80200},{"$f":"Kostenvergleich!H23","v":80200},{"$f":"Kostenvergleich!I23","v":99100},{"$f":"Kostenvergleich!J23","v":99100},{"$f":"Kostenvergleich!K23","v":{"$error":"#DIV/0!"}},{"$f":"Kostenvergleich!L23","v":""}]
[null,{"$f":"Kostenvergleich!B25","v":"Variable Kosten"},null,null,{"$f":"Kostenvergleich!E31","v":81000},{"$f":"Kostenvergleich!F31","v":101250},{"$f":"Kostenvergleich!G31","v":106000},{"$f":"Kostenvergleich!H31","v":106000},{"$f":"Kostenvergleich!I31","v":121000},{"$f":"Kostenvergleich!J31","v":133300},{"$f":"Kostenvergleich!K31","v":0},{"$f":"Kostenvergleich!L31","v":""}]
[null,{"$f":"Kostenvergleich!B33","v":"Total Kosten"},null,null,{"$f":"Kostenvergleich!E33","v":188900},{"$f":"Kostenvergleich!F33","v":209150},{"$f":"Kostenvergleich!G33","v":186200},{"$f":"Kostenvergleich!H33","v":186200},{"$f":"Kostenvergleich!I33","v":220100},{"$f":"Kostenvergleich!J33","v":232400},{"$f":"Kostenvergleich!K33","v":{"$error":"#DIV/0!"}},{"$f":"Kostenvergleich!L33","v":""}]
[]
[null,{"$f":"Gewinnvergleich!B30","v":"Erlös je Periode"},null,null,{"$f":"Gewinnvergleich!E30","v":192000},{"$f":"Gewinnvergleich!F30","v":240000},{"$f":"Gewinnvergleich!G30","v":190500},{"$f":"Gewinnvergleich!H30","v":190500},{"$f":"Gewinnvergleich!I30","v":202000},{"$f":"Gewinnvergleich!J30","v":363600},{"$f":"Gewinnvergleich!K30","v":""},{"$f":"Gewinnvergleich!L30","v":""}]
[null,{"$f":"Gewinnvergleich!B31","v":"Gewinn je Periode"},null,null,{"$f":"Gewinnvergleich!E31","v":3100},{"$f":"Gewinnvergleich!F31","v":30850},{"$f":"Gewinnvergleich!G31","v":4300},{"$f":"Gewinnvergleich!H31","v":4300},{"$f":"Gewinnvergleich!I31","v":-18100},{"$f":"Gewinnvergleich!J31","v":131200},{"$f":"Gewinnvergleich!K31","v":{"$error":"#VALUE!"}},{"$f":"Gewinnvergleich!L31","v":{"$error":"#VALUE!"}}]
[]
[null,{"$f":"Gewinnvergleich!B23","v":"Erlös je Leistungseinheit"},null,null,{"$f":"Gewinnvergleich!E23","v":19.2},null,{"$f":"Gewinnvergleich!G23","v":19.05},null,{"$f":"Gewinnvergleich!I23","v":20.2},null,{"$f":"Gewinnvergleich!K23","v":0}]
[]
["Rentabilitätsvergleich"]
[]
[null,null,null,null,{"$f":"'Nutzwert-Analyse'!E3","v":"Variante 1"},null,{"$f":"'Nutzwert-Analyse'!H3","v":"Variante 2"},null,{"$f":"'Nutzwert-Analyse'!K3","v":"Variante 3"},null,{"$f":"'Nutzwert-Analyse'!N3","v":"Variante 4"}]
[null,null,null,null,{"$f":"E14","v":"erwartete"},"maximale","erwartete","maximale","erwartete","maximale","erwartete","maximale"]
[null,null,null,null,"Auslastung","Kapazität","Auslastung","Kapazität","Auslastung","Kapazität","Auslastung","Kapazität"]
[null,"Rentabilität",null,null,{"$f":"E24/((E10+E11)/2)*100","v":1.7514124293785311},{"$f":"F24/((E10+E11)/2)*100","v":17.429378531073446},{"$f":"G24/((G10+G11)/2)*100","v":3.1851851851851851},{"$f":"H24/((G10+G11)/2)*100","v":3.1851851851851851},{"$f":"I24/((I10+I11)/2)*100","v":-8.0088495575221241},{"$f":"J24/((I10+I11)/2)*100","v":58.053097345132741},{"$f":"K24/((K10+K11)/2)*100","v":{"$error":"#VALUE!"}},{"$f":"L24/((K10+K11)/2)*100","v":{"$error":"#VALUE!"}}]
[null,"Umsatzgewinnrate",null,null,{"$f":"E24/E23","v":1.6145833333333335E-2},{"$f":"F24/F23","v":0.12854166666666667},{"$f":"G24/G23","v":2.2572178477690288E-2},{"$f":"H24/H23","v":2.2572178477690288E-2},{"$f":"I24/I23","v":-8.96039603960396E-2},{"$f":"J24/J23","v":0.36083608360836084},{"$f":"K24/K23","v":{"$error":"#VALUE!"}},{"$f":"L24/L23","v":{"$error":"#VALUE!"}}]
[null,"Umsatzrentabilität",null,null,{"$f":"E24*100/E23","v":1.6145833333333333},{"$f":"F24*100/F23","v":12.854166666666666},{"$f":"G24*100/G23","v":2.257217847769029},{"$f":"H24*100/H23","v":2.257217847769029},{"$f":"I24*100/I23","v":-8.9603960396039604},{"$f":"J24*100/J23","v":36.083608360836081},{"$f":"K24*100/K23","v":{"$error":"#VALUE!"}},{"$f":"L24*100/L23","v":{"$error":"#VALUE!"}}]
[null,"Kapitalumschlagshäufigkeit",null,null,{"$f":"E23/((E10+E11)/2)","v":1.0847457627118644},{"$f":"F23/((E10+E11)/2)","v":1.3559322033898304},{"$f":"G23/((G10+G11)/2)","v":1.4111111111111112},{"$f":"H23/((G10+G11)/2)","v":1.4111111111111112},{"$f":"I23/((I10+I11)/2)","v":0.89380530973451322},{"$f":"J23/((I10+I11)/2)","v":1.608849557522124},{"$f":"K23/((K10+K11)/2)","v":{"$error":"#VALUE!"}},{"$f":"L23/((K10+K11)/2)","v":{"$error":"#VALUE!"}}]
[null,"Return on Investment (ROI)",null,null,{"$f":"E24*100/((E10+E11)/2)","v":1.7514124293785311},{"$f":"F24*100/((E10+E11)/2)","v":17.429378531073446},{"$f":"G24*100/((G10+G11)/2)","v":3.1851851851851851},{"$f":"H24*G12*100/((G10+G11)/2)","v":12.74074074074074},{"$f":"I24*I12*100/((I10+I11)/2)","v":-64.070796460176993},{"$f":"J24*I12*100/((I10+I11)/2)","v":464.42477876106193},{"$f":"K24*K12*100/((K10+K11)/2)","v":{"$error":"#VALUE!"}},{"$f":"L24*K12*100/((K10+K11)/2)","v":{"$error":"#VALUE!"}}]
[]
["Amortisationsvergleich"]
[]
[null,"Amortisationszeit (Jahre)",null,null,{"$f":"E10/(E24+Kostenvergleich!E21)","v":4.9780380673499272},{"$f":"E10/(F24+Kostenvergleich!E21)","v":3.5398230088495577},{"$f":"G10/(G24+Kostenvergleich!G21)","v":3.8922155688622753},{"$f":"G10/(H24+Kostenvergleich!G21)","v":3.8922155688622753},{"$f":"I10/(I24+Kostenvergleich!I21)","v":13.815789473684211},{"$f":"I10/(J24+Kostenvergleich!I21)","v":2.337228714524207},{"$f":"K10/(K24+Kostenvergleich!K21)","v":{"$error":"#VALUE!"}},{"$f":"K10/(L24+Kostenvergleich!K21)","v":{"$error":"#VALUE!"}}]

{"sheet":"Kapitalwert","index":7,"n_rows":119,"n_cols":13,"rows_kept":119,"cut":false,"hidden":false,"merged":[]}
[]
[{"$f":"Kostenvergleich!A2","v":"Basisdaten für alle Varianten"}]
[]
[null,{"$f":"Kostenvergleich!B4","v":"Zinssatz kalk. Zinsen"},null,null,{"$f":"Kostenvergleich!E4","v":0.1}]
[null,{"$f":"Kostenvergleich!B5","v":"erwartete Auslastung"},null,null,{"$f":"Kostenvergleich!E5","v":10000}]
[]
[null,{"$f":"Kostenvergleich!B7","v":"Daten je Variante"},null,null,"(Zusammenfassung aus Kosten- und Gewinnvergleich)"]
[]
[null,null,null,null,{"$f":"'Nutzwert-Analyse'!E3","v":"Variante 1"},null,{"$f":"'Nutzwert-Analyse'!H3","v":"Variante 2"},null,{"$f":"'Nutzwert-Analyse'!K3","v":"Variante 3"},null,{"$f":"'Nutzwert-Analyse'!N3","v":"Variante 4"}]
[null,{"$f":"Kostenvergleich!B10","v":"Investition (Anschaffungskosten)"},null,null,{"$f":"Kostenvergleich!E10","v":340000},null,{"$f":"Kostenvergleich!G10","v":260000},null,{"$f":"Kostenvergleich!I10","v":420000},null,{"$f":"Kostenvergleich!K10","v":0}]
[null,{"$f":"Kostenvergleich!B11","v":"Liquidationserlös"},null,null,{"$f":"Kostenvergleich!E11","v":14000},null,{"$f":"Kostenvergleich!G11","v":10000},null,{"$f":"Kostenvergleich!I11","v":32000},null,{"$f":"Kostenvergleich!K11","v":0}]
[null,{"$f":"Kostenvergleich!B12","v":"Nutzungsdauer (Jahre)"},null,null,{"$f":"Kostenvergleich!E12","v":5},null,{"$f":"Kostenvergleich!G12","v":4},null,{"$f":"Kostenvergleich!I12","v":8},null,{"$f":"Kostenvergleich!K12","v":0}]
[]
[null,null,null,null,{"$f":"Kostenvergleich!E14","v":"erwartete"},{"$f":"Kostenvergleich!F14","v":"maximale"},{"$f":"Kostenvergleich!G14","v":"erwartete"},{"$f":"Kostenvergleich!H14","v":"maximale"},{"$f":"Kostenvergleich!I14","v":"erwartete"},{"$f":"Kostenvergleich!J14","v":"maximale"},{"$f":"Kostenvergleich!K14","v":"erwartete"},{"$f":"Kostenvergleich!L14","v":"maximale"}]
[null,null,null,null,{"$f":"Kostenvergleich!E15","v":"Auslastung"},{"$f":"Kostenvergleich!F15","v":"Kapazität"},{"$f":"Kostenvergleich!G15","v":"Auslastung"},{"$f":"Kostenvergleich!H15","v":"Kapazität"},{"$f":"Kostenvergleich!I15","v":"Auslastung"},{"$f":"Kostenvergleich!J15","v":"Kapazität"},{"$f":"Kostenvergleich!K15","v":"Auslastung"},{"$f":"Kostenvergleich!L15","v":"Kapazität"}]
[]
[null,{"$f":"Kostenvergleich!B17","v":"bei Output von (Leistungseinheiten):"},null,null,{"$f":"Kostenvergleich!E17","v":10000},{"$f":"Kostenvergleich!F17","v":12500},{"$f":"Kostenvergleich!G17","v":10000},{"$f":"Kostenvergleich!H17","v":10000},{"$f":"Kostenvergleich!I17","v":10000},{"$f":"Kostenvergleich!J17","v":18000},{"$f":"Kostenvergleich!K17","v":10000},{"$f":"Kostenvergleich!L17","v":0}]
[]
[null,{"$f":"Kostenvergleich!B19","v":"Fixkosten / Jahr"},null,null,{"$f":"Kostenvergleich!E23","v":107900},{"$f":"Kostenvergleich!F23","v":107900},{"$f":"Kostenvergleich!G23","v":80200},{"$f":"Kostenvergleich!H23","v":80200},{"$f":"Kostenvergleich!I23","v":99100},{"$f":"Kostenvergleich!J23","v":99100},{"$f":"Kostenvergleich!K23","v":{"$error":"#DIV/0!"}},{"$f":"Kostenvergleich!L23","v":""}]
[null,{"$f":"Kostenvergleich!B25","v":"Variable Kosten"},null,null,{"$f":"Kostenvergleich!E31","v":81000},{"$f":"Kostenvergleich!F31","v":101250},{"$f":"Kostenvergleich!G31","v":106000},{"$f":"Kostenvergleich!H31","v":106000},{"$f":"Kostenvergleich!I31","v":121000},{"$f":"Kostenvergleich!J31","v":133300},{"$f":"Kostenvergleich!K31","v":0},{"$f":"Kostenvergleich!L31","v":""}]
[null,{"$f":"Kostenvergleich!B33","v":"Total Kosten"},null,null,{"$f":"Kostenvergleich!E33","v":188900},{"$f":"Kostenvergleich!F33","v":209150},{"$f":"Kostenvergleich!G33","v":186200},{"$f":"Kostenvergleich!H33","v":186200},{"$f":"Kostenvergleich!I33","v":220100},{"$f":"Kostenvergleich!J33","v":232400},{"$f":"Kostenvergleich!K33","v":{"$error":"#DIV/0!"}},{"$f":"Kostenvergleich!L33","v":""}]
[]
[null,{"$f":"Gewinnvergleich!B30","v":"Erlös je Periode"},null,null,{"$f":"Gewinnvergleich!E30","v":192000},{"$f":"Gewinnvergleich!F30","v":240000},{"$f":"Gewinnvergleich!G30","v":190500},{"$f":"Gewinnvergleich!H30","v":190500},{"$f":"Gewinnvergleich!I30","v":202000},{"$f":"Gewinnvergleich!J30","v":363600},{"$f":"Gewinnvergleich!K30","v":""},{"$f":"Gewinnvergleich!L30","v":""}]
[null,{"$f":"Gewinnvergleich!B31","v":"Gewinn je Periode"},null,null,{"$f":"Gewinnvergleich!E31","v":3100},{"$f":"Gewinnvergleich!F31","v":30850},{"$f":"Gewinnvergleich!G31","v":4300},{"$f":"Gewinnvergleich!H31","v":4300},{"$f":"Gewinnvergleich!I31","v":-18100},{"$f":"Gewinnvergleich!J31","v":131200},{"$f":"Gewinnvergleich!K31","v":{"$error":"#VALUE!"}},{"$f":"Gewinnvergleich!L31","v":{"$error":"#VALUE!"}}]
[]
[null,{"$f":"Gewinnvergleich!B23","v":"Erlös je Leistungseinheit"},null,null,{"$f":"Gewinnvergleich!E23","v":19.2},null,{"$f":"Gewinnvergleich!G23","v":19.05},null,{"$f":"Gewinnvergleich!I23","v":20.2},null,{"$f":"Gewinnvergleich!K23","v":0}]
[]
[]
[null,"Zinssatz für Abzinsung",null,null,0.08]
[null,"Auslastungsentwicklung (Werte für die Einschätzung von Szenarien)"]
[null,null,"1. Betriebsjahr",null,8500,null,9600,null,9200,null,0,null,"Absatzentwicklung durch lineare Interpolation der beiden Werte."]
[null,null,"Letztes Betriebsjahr",null,12000,null,10000,null,18000,null,0,null,"Dies ist als Vorschlag bzw. erste Orientierung zu verstehen."]
[]
["Kapitalwertvergleich"]
[]
[null,null,null,null,{"$f":"'Nutzwert-Analyse'!E3","v":"Variante 1"},null,{"$f":"'Nutzwert-Analyse'!H3","v":"Variante 2"},null,{"$f":"'Nutzwert-Analyse'!K3","v":"Variante 3"},null,{"$f":"'Nutzwert-Analyse'!N3","v":"Variante 4"}]
[null,"Kapitalwert (Net Present Value, NPV)"]
[null,"Wert aller Zahlungsströme zum heutigen Zeitpunkt",null,null,{"$f":"H59","v":117845.04087140568},null,{"$f":"H79","v":13797.845856830827},null,{"$f":"H99","v":394725.54380515416},null,{"$f":"H119","v":0}]
[]
["Die Details für die einzelnen Varianten sind nachfolgend aufgeführt."]
[]
["Details Variante 1"]
[]
[null,"Jahr","Output (LE)","Erlös","Ausgaben","Überschuss","Faktor","Barwert"]
[null,null,null,null,null,null,"Abzinsung"]
[1,{"$f":"IF($E$12<>0,1,0)","v":1},{"$f":"IF(B46=0,0,$E$31)","v":8500},{"$f":"C46*$E$26","v":163200},{"$f":"IF(C46=0,0,(TREND($E$20:$F$20,$E$17:$F$17,C46)))","v":68850},{"$f":"IF(B46=$E$12,D46-E46+$E$11,D46-E46)","v":94350},{"$f":"IF(B46=0,0,(1+$E$29)^(B46*(-1)))","v":0.92592592592592582},{"$f":"F46*G46","v":87361.111111111095}]
[2,{"$f":"IF(B46=0,0,IF(B46+1<=$E$12,B46+1,0))","v":2},{"$f":"IF(B47=0,0,C46+(($E$32-$E$31)/($E$12-1)))","v":9375},{"$f":"C47*$E$26","v":180000},{"$f":"IF(C47=0,0,(TREND($E$20:$F$20,$E$17:$F$17,C47)))","v":75937.5},{"$f":"IF(B47=$E$12,D47-E47+$E$11,D47-E47)","v":104062.5},{"$f":"IF(B47=0,0,(1+$E$29)^(B47*(-1)))","v":0.85733882030178321},{"$f":"F47*G47","v":89216.820987654311}]
[3,{"$f":"IF(B47=0,0,IF(B47+1<=$E$12,B47+1,0))","v":3},{"$f":"IF(B48=0,0,C47+(($E$32-$E$31)/($E$12-1)))","v":10250},196800,83025,113775,{"$f":"IF(B48=0,0,(1+$E$29)^(B48*(-1)))","v":0.79383224102016958},90318.2632220698]
[4,4,11125,213600,90112.5,123487.5,0.73502985279645328,90766.998947202024]
[5,5,12000,230400,97200,147200,0.68058319703375303,100181.84660336845]
[6,0,0,0,0,0,0,0]
[7,0,0,0,0,0,0,0]
[8,0,0,0,0,0,0,0]
[9,0,0,0,0,0,0,0]
[10,0,0,0,0,0,0,0]
[]
[null,null,null,null,"Summe Barwert:",null,null,{"$f":"SUM(H46:H55)","v":457845.04087140568}]
[null,null,null,null,"abzgl. Anschaffungswert:",null,null,{"$f":"E10*(-1)","v":-340000}]
[null,null,null,null,"Kapitalwert",null,null,{"$f":"H57+H58","v":117845.04087140568}]
[]
[]
["Details Variante 2"]
[]
[null,"Jahr","Output (LE)","Erlös","Ausgaben","Überschuss","Faktor","Barwert"]
[null,null,null,null,null,null,"Abzinsung"]
[1,{"$f":"IF($G$12<>0,1,0)","v":1},{"$f":"IF(B66=0,0,$G$31)","v":9600},{"$f":"C66*$G$26","v":182880},{"$f":"IF(C66=0,0,TREND($G$20:$H$20,$G$17:$H$17,C66))","v":106000},{"$f":"IF(B66=$G$12,D66-E66+$G$11,D66-E66)","v":76880},{"$f":"IF(B66=0,0,(1+$E$29)^(B66*(-1)))","v":0.92592592592592582},{"$f":"F66*G66","v":71185.185185185182}]
[2,{"$f":"IF(B66=0,0,IF(B66+1<=$G$12,B66+1,0))","v":2},{"$f":"IF(B67=0,0,C66+(($G$32-$G$31)/($G$12-1)))","v":9733.3333333333339},{"$f":"C67*$G$26","v":185420.00000000003},{"$f":"IF(C67=0,0,TREND($G$20:$H$20,$G$17:$H$17,C67))","v":106000},{"$f":"IF(B67=$G$12,D67-E67+$G$11,D67-E67)","v":79420.000000000029},{"$f":"IF(B67=0,0,(1+$E$29)^(B67*(-1)))","v":0.85733882030178321},{"$f":"F67*G67","v":68089.849108367649}]
[3,{"$f":"IF(B67=0,0,IF(B67+1<=$G$12,B67+1,0))","v":3},{"$f":"IF(B68=0,0,C67+(($G$32-$G$31)/($G$12-1)))","v":9866.6666666666679},187960.00000000003,106000,81960.000000000029,{"$f":"IF(B68=0,0,(1+$E$29)^(B68*(-1)))","v":0.79383224102016958},65062.490474013124]
[4,4,10000.000000000002,190500.00000000003,106000,94500.000000000029,{"$f":"IF(B69=0,0,(1+$E$29)^(B69*(-1)))","v":0.73502985279645328},69460.321089264849]
[5,0,0,{"$f":"C70*$G$26","v":0},0,0,0,0]
[6,0,0,0,0,0,0,0]
[7,0,0,0,0,0,0,0]
[8,0,0,0,0,0,0,0]
[9,0,0,0,0,0,0,0]
[10,0,0,0,0,0,0,0]
[]
[null,null,null,null,"Summe Barwert:",null,null,{"$f":"SUM(H66:H75)","v":273797.84585683083}]
[null,null,null,null,"abzgl. Anschaffungswert:",null,null,{"$f":"G10*(-1)","v":-260000}]
[null,null,null,null,"Kapitalwert",null,null,{"$f":"H77+H78","v":13797.845856830827}]
[]
[]
["Details Variante 3"]
[]
[null,"Jahr","Output (LE)","Erlös","Ausgaben","Überschuss","Faktor","Barwert"]
[null,null,null,null,null,null,"Abzinsung"]
[1,{"$f":"IF($I$12<>0,1,0)","v":1},{"$f":"IF(B86=0,0,$I$31)","v":9200},{"$f":"C86*$I$26","v":185840},{"$f":"IF(C86=0,0,TREND($I$20:$J$20,$I$17:$J$17,C86))","v":119770},{"$f":"IF(B86=$I$12,D86-E86+$I$11,D86-E86)","v":66070},{"$f":"IF(B86=0,0,(1+$E$29)^(B86*(-1)))","v":0.92592592592592582},{"$f":"F86*G86","v":61175.92592592592}]
[2,{"$f":"IF(B86=0,0,IF(B86+1<=$I$12,B86+1,0))","v":2},{"$f":"IF(B87=0,0,C86+(($I$32-$I$31)/($I$12-1)))","v":10457.142857142857},{"$f":"C87*$I$26","v":211234.28571428571},{"$f":"IF(C87=0,0,TREND($I$20:$J$20,$I$17:$J$17,C87))","v":121702.85714285714},{"$f":"IF(B87=$I$12,D87-E87+$I$11,D87-E87)","v":89531.428571428565},{"$f":"IF(B87=0,0,(1+$E$29)^(B87*(-1)))","v":0.85733882030178321},{"$f":"F87*G87","v":76758.769351361931}]
[3,{"$f":"IF(B87=0,0,IF(B87+1<=$I$12,B87+1,0))","v":3},{"$f":"IF(B88=0,0,C87+(($I$32-$I$31)/($I$12-1)))","v":11714.285714285714},236628.57142857142,123635.71428571428,112992.85714285714,0.79383224102016958,89697.373004986162]
[4,4,12971.428571428571,262022.85714285713,125568.57142857142,136454.28571428571,0.73502985279645328,100297.9735420166]
[5,5,14228.571428571428,287417.14285714284,127501.42857142857,159915.71428571426,0.68058319703375303,108835.94808450762]
[6,6,15485.714285714284,312811.42857142852,129434.28571428571,183377.14285714281,0.63016962688310452,115558.70569317543]
[7,7,{"$f":"IF(B92=0,0,C91+(($I$32-$I$31)/($I$12-1)))","v":16742.857142857141},338205.71428571426,131367.14285714284,206838.57142857142,{"$f":"IF(B92=0,0,(1+$E$29)^(B92*(-1)))","v":0.58349039526213387},{"$f":"F92*G92","v":120688.31979831225}]
[8,8,18000,363600,133300,262300,0.54026888450197574,141712.52840486824]
[9,0,0,0,0,0,0,0]
[10,0,0,0,0,0,0,0]
[]
[null,null,null,null,"Summe Barwert:",null,null,{"$f":"SUM(H86:H95)","v":814725.54380515416}]
[null,null,null,null,"abzgl. Anschaffungswert:",null,null,{"$f":"I10*(-1)","v":-420000}]
[null,null,null,null,"Kapitalwert",null,null,{"$f":"H97+H98","v":394725.54380515416}]
[]
[]
["Details Variante 4"]
[]
[null,"Jahr","Output (LE)","Erlös","Ausgaben","Überschuss","Faktor","Barwert"]
[null,null,null,null,null,null,"Abzinsung"]
[1,{"$f":"IF($K$12<>0,1,0)","v":0},{"$f":"IF(B106=0,0,$K$31)","v":0},{"$f":"C106*$K$26","v":0},{"$f":"IF(C106=0,0,TREND($K$20:$L$20,$K$17:$L$17,C106))","v":0},{"$f":"IF(B106=$K$12,D106-E106+$K$11,D106-E106)","v":0},{"$f":"IF(B106=0,0,(1+$E$29)^(B106*(-1)))","v":0},{"$f":"F106*G106","v":0}]
[2,{"$f":"IF(B106=0,0,IF(B106+1<=$K$12,B106+1,0))","v":0},{"$f":"IF(B107=0,0,C106+(($K$32-$K$31)/($K$12-1)))","v":0},{"$f":"C107*$G$26","v":0},{"$f":"IF(C107=0,0,TREND($K$20:$L$20,$K$17:$L$17,C107))","v":0},{"$f":"IF(B107=$K$12,D107-E107+$K$11,D107-E107)","v":0},{"$f":"IF(B107=0,0,(1+$E$29)^(B107*(-1)))","v":0},{"$f":"F107*G107","v":0}]
[3,{"$f":"IF(B107=0,0,IF(B107+1<=$K$12,B107+1,0))","v":0},{"$f":"IF(B108=0,0,C107+(($K$32-$K$31)/($K$12-1)))","v":0},0,0,0,0,0]
[4,0,0,0,0,0,0,0]
[5,0,0,0,0,0,0,0]
[6,0,0,0,0,0,0,0]
[7,0,0,0,0,0,0,0]
[8,0,0,0,0,0,0,0]
[9,0,0,0,0,0,0,0]
[10,0,0,0,0,0,0,0]
[]
[null,null,null,null,"Summe Barwert:",null,null,{"$f":"SUM(H106:H115)","v":0}]
[null,null,null,null,"abzgl. Anschaffungswert:",null,null,{"$f":"G52*(-1)","v":0}]
[null,null,null,null,"Kapitalwert",null,null,{"$f":"H117+H118","v":0}]

{"sheet":"Annuität","index":8,"n_rows":20,"n_cols":11,"rows_kept":20,"cut":false,"hidden":false,"merged":[]}
[]
[{"$f":"Kostenvergleich!A2","v":"Basisdaten für alle Varianten"}]
[]
[null,{"$f":"Kostenvergleich!B4","v":"Zinssatz kalk. Zinsen"},null,null,{"$f":"Kostenvergleich!E4","v":0.1}]
[null,{"$f":"Kostenvergleich!B5","v":"erwartete Auslastung"},null,null,{"$f":"Kostenvergleich!E5","v":10000}]
[]
[null,{"$f":"Kapitalwert!B29","v":"Zinssatz für Abzinsung"},null,null,{"$f":"Kapitalwert!E29","v":0.08}]
[]
[null,{"$f":"Kostenvergleich!B7","v":"Daten je Variante"},null,null,"(Zusammenfassung)"]
[]
[null,null,null,null,{"$f":"'Nutzwert-Analyse'!E3","v":"Variante 1"},null,{"$f":"'Nutzwert-Analyse'!H3","v":"Variante 2"},null,{"$f":"'Nutzwert-Analyse'!K3","v":"Variante 3"},null,{"$f":"'Nutzwert-Analyse'!N3","v":"Variante 4"}]
[]
[null,{"$f":"Kostenvergleich!B12","v":"Nutzungsdauer (Jahre)"},null,null,{"$f":"Kostenvergleich!E12","v":5},null,{"$f":"Kostenvergleich!G12","v":4},null,{"$f":"Kostenvergleich!I12","v":8},null,{"$f":"Kostenvergleich!K12","v":0}]
[]
[null,"Kapitalwert (Net Present Value, NPV)"]
[null,"Wert aller Zahlungsströme zum heutigen Zeitpunkt",null,null,{"$f":"Kapitalwert!E38","v":117845.04087140568},null,{"$f":"Kapitalwert!G38","v":13797.845856830827},null,{"$f":"Kapitalwert!I38","v":394725.54380515416},null,{"$f":"Kapitalwert!K38","v":0}]
[]
[]
[null,"Annuität",null,null,{"$f":"($E$7*((1+$E$7)^E13))/(((1+$E$7)^E13)-1)*E16","v":29515.051124936203},null,{"$f":"($E$7*((1+$E$7)^G13))/(((1+$E$7)^G13)-1)*G16","v":4165.8567208271943},null,{"$f":"($E$7*((1+$E$7)^I13))/(((1+$E$7)^I13)-1)*I16","v":68688.071004730693},null,{"$f":"($E$7*((1+$E$7)^K13))/(((1+$E$7)^K13)-1)*K16","v":{"$error":"#DIV/0!"}}]
[null,"(Zielwert je Periode)"]